BEGIN:VCALENDAR
X-LOTUS-CHARSET:UTF-8
VERSION:2.0
PRODID:ZMS-Berlin
METHOD:PUBLISH
BEGIN:VEVENT
UID:zukunft-aus-brandenburg-2146
CLASS:PUBLIC
DTSTAMP:20260423T120221
DTSTART;TZID=Europe/Berlin:2026-05-19T08:45:00
DTEND;TZID=Europe/Berlin:2026-05-19T08:45:00
LOCATION:Südstraße 3, 02979, Spreetal, DE,   Dock³ Lausitz - Kompetenzzentrum am Industriepark Schwarze Pumpe,
SUMMARY:Schadstoffe im Wasser
DESCRIPTION:Neue EU-Grenzwerte für Schadstoffe im Wasser

END:VEVENT
END:VCALENDAR
