BEGIN:VCALENDAR
X-LOTUS-CHARSET:UTF-8
VERSION:2.0
PRODID:ZMS-Berlin
METHOD:PUBLISH
BEGIN:VEVENT
UID:zukunft-aus-brandenburg-2143
CLASS:PUBLIC
DTSTAMP:20260421T170451
DTSTART;TZID=Europe/Berlin:2026-07-02T08:00:00
DTEND;TZID=Europe/Berlin:2026-07-02T08:00:00
LOCATION:Baruth/Mark, 15837, OT Horstwalde, DE, Testgelände Technische Sicherheit,
SUMMARY:Eröffnung des Reallabors Wasserstoffnetze bei der BAM
DESCRIPTION:Die BAM eröffnet das Reallabor Wasserstoffnetze mit der modularen Testplattform ModuH2Pipe@BAM und schafft damit eine einzigartige Infrastruktur zur Untersuchung des sicheren Betriebs von Wasserstoff-Pipelines unter realitätsnahen Bedingungen.

END:VEVENT
END:VCALENDAR
